BEGIN:VCALENDAR
VERSION:2.0
PRODID:-//Welland Tennis Club - ECPv6.15.20//NONSGML v1.0//EN
CALSCALE:GREGORIAN
METHOD:PUBLISH
X-ORIGINAL-URL:https://wellandtennisclub.com
X-WR-CALDESC:Events for Welland Tennis Club
REFRESH-INTERVAL;VALUE=DURATION:PT1H
X-Robots-Tag:noindex
X-PUBLISHED-TTL:PT1H
BEGIN:VTIMEZONE
TZID:America/Toronto
BEGIN:DAYLIGHT
TZOFFSETFROM:-0500
TZOFFSETTO:-0400
TZNAME:EDT
DTSTART:20250309T070000
END:DAYLIGHT
BEGIN:STANDARD
TZOFFSETFROM:-0400
TZOFFSETTO:-0500
TZNAME:EST
DTSTART:20251102T060000
END:STANDARD
BEGIN:DAYLIGHT
TZOFFSETFROM:-0500
TZOFFSETTO:-0400
TZNAME:EDT
DTSTART:20260308T070000
END:DAYLIGHT
BEGIN:STANDARD
TZOFFSETFROM:-0400
TZOFFSETTO:-0500
TZNAME:EST
DTSTART:20261101T060000
END:STANDARD
BEGIN:DAYLIGHT
TZOFFSETFROM:-0500
TZOFFSETTO:-0400
TZNAME:EDT
DTSTART:20270314T070000
END:DAYLIGHT
BEGIN:STANDARD
TZOFFSETFROM:-0400
TZOFFSETTO:-0500
TZNAME:EST
DTSTART:20271107T060000
END:STANDARD
END:VTIMEZONE
BEGIN:VEVENT
DTSTART;TZID=America/Toronto:20260504T093000
DTEND;TZID=America/Toronto:20260504T110000
DTSTAMP:20260424T041929
CREATED:20260213T152901Z
LAST-MODIFIED:20260401T232336Z
UID:16748-1777887000-1777892400@wellandtennisclub.com
SUMMARY:Mixed B+ Doubles League
DESCRIPTION:Mixed B Doubles League\nLeague is Mondays and Fridays from Monday\, May 4th until August 31st and Friday\, May 8th until Friday\, August 28th\, 2026\n\n\nTennis and Tryouts are on Monday\, May 4th and Friday\, May 8th.\n\n\n\n\nThe Monday league runs every Monday from 11:00 am – 12:30 am and the Friday league runs every Friday from 9:30 am – 11:00 am throughout the season\n\n\n1 1/2 hours of tennis per session.\n\n\nThere is a fee for Balls\n\n\nFor more information please contact the Mixed Doubles Coordinator- Mandi Hallchurch-  msmandinash@gmail.com  Coordinator
URL:https://wellandtennisclub.com/event/16748/2026-05-04/
CATEGORIES:Mixed B Doubles League
END:VEVENT
END:VCALENDAR