BEGIN:VCALENDAR
VERSION:2.0
PRODID:-//Welland Tennis Club - ECPv6.15.20//NONSGML v1.0//EN
CALSCALE:GREGORIAN
METHOD:PUBLISH
X-ORIGINAL-URL:https://wellandtennisclub.com
X-WR-CALDESC:Events for Welland Tennis Club
REFRESH-INTERVAL;VALUE=DURATION:PT1H
X-Robots-Tag:noindex
X-PUBLISHED-TTL:PT1H
BEGIN:VTIMEZONE
TZID:America/Toronto
BEGIN:DAYLIGHT
TZOFFSETFROM:-0500
TZOFFSETTO:-0400
TZNAME:EDT
DTSTART:20250309T070000
END:DAYLIGHT
BEGIN:STANDARD
TZOFFSETFROM:-0400
TZOFFSETTO:-0500
TZNAME:EST
DTSTART:20251102T060000
END:STANDARD
BEGIN:DAYLIGHT
TZOFFSETFROM:-0500
TZOFFSETTO:-0400
TZNAME:EDT
DTSTART:20260308T070000
END:DAYLIGHT
BEGIN:STANDARD
TZOFFSETFROM:-0400
TZOFFSETTO:-0500
TZNAME:EST
DTSTART:20261101T060000
END:STANDARD
BEGIN:DAYLIGHT
TZOFFSETFROM:-0500
TZOFFSETTO:-0400
TZNAME:EDT
DTSTART:20270314T070000
END:DAYLIGHT
BEGIN:STANDARD
TZOFFSETFROM:-0400
TZOFFSETTO:-0500
TZNAME:EST
DTSTART:20271107T060000
END:STANDARD
END:VTIMEZONE
BEGIN:VEVENT
DTSTART;TZID=America/Toronto:20260429T180000
DTEND;TZID=America/Toronto:20260429T200000
DTSTAMP:20260424T074916
CREATED:20260227T162245Z
LAST-MODIFIED:20260227T162245Z
UID:17036-1777485600-1777492800@wellandtennisclub.com
SUMMARY:Adult Open House 2026
DESCRIPTION:Adult  Open House 2026\nWednesday\, April 8th\, Saturday\, April 18th and April 29th. Wednesdays- 6-8 pm and Saturday\, 1-3 pm \nDrop in\, check out the Club and talk to the Club Pro about Private and Group Lessons\, Leagues\,  Socials and just playing tennis with a friend.
URL:https://wellandtennisclub.com/event/adult-open-house-2026-3/
CATEGORIES:Adult Open House
END:VEVENT
BEGIN:VEVENT
DTSTART;TZID=America/Toronto:20260513T180000
DTEND;TZID=America/Toronto:20260513T203000
DTSTAMP:20260424T074916
CREATED:20250116T202545Z
LAST-MODIFIED:20260211T154635Z
UID:13710-1778695200-1778704200@wellandtennisclub.com
SUMMARY:Open House for Adults 2026
DESCRIPTION:  \nOpen House for Adults  \nOpen House held at Welland Tennis Club\, 45 Hooker Street in Welland. \nWednesday\, May 13th\, 2026  6-8:30 pm \nCheck out the facility\, talk to the Club Pro and Board Members about Tennis at the club \nRegistration is Online using Credit Card \nCome out and play Tennis \nFor more information\, please contact Dave Boland at davebolandwellandtc@gmail.com \n  \n  \n  \n 
URL:https://wellandtennisclub.com/event/in-person-registration-2024-04-27-2/
LOCATION:Welland Tennis Club\, 45 Hooker St.\, Welland\, Ontario\, L3B 5R4\, Canada
CATEGORIES:Adult Open House
ATTACH;FMTTYPE=image/jpeg:https://wellandtennisclub.com/wp-content/uploads/2022/11/IMG_5491highball-scaled.jpg
END:VEVENT
END:VCALENDAR